BEGIN:VCALENDAR
VERSION:2.0
PRODID:-//Comité Interdépartemental Provence Aïkido FFAB - ECPv4.6.24.1//NONSGML v1.0//EN
CALSCALE:GREGORIAN
METHOD:PUBLISH
X-WR-CALNAME:Comité Interdépartemental Provence Aïkido FFAB
X-ORIGINAL-URL:https://www.aikidoprovence.com
X-WR-CALDESC:Évènements pour Comité Interdépartemental Provence Aïkido FFAB
BEGIN:VEVENT
DTSTART;TZID=Europe/Paris:20240310T090000
DTEND;TZID=Europe/Paris:20240310T120000
DTSTAMP:20260422T001232
CREATED:20240229T084021Z
LAST-MODIFIED:20240229T090054Z
UID:1676-1710061200-1710072000@www.aikidoprovence.com
SUMMARY:Annulation stage ouvert à tous du dimanche 10 mars 2024
DESCRIPTION:Stage ouvert à tous\nLe stage prévu le dimanche 10 mars 2024 au Puy Sainte Réparade qui devait être animé par : \n\nClaude PELLERIN\, Shihan\, CEN FFAB\, 8e dan\n\nEst annulé pour des raisons logistiques.\nIl est repoussé à une date ultérieure. \n \nStage annulé (Affiche en PDF) \n
URL:https://www.aikidoprovence.com/stage/1676
CATEGORIES:Adultes
END:VEVENT
END:VCALENDAR