BEGIN:VCALENDAR
VERSION:2.0
PRODID:-//Comité Interdépartemental Provence Aïkido FFAB - ECPv4.6.24.1//NONSGML v1.0//EN
CALSCALE:GREGORIAN
METHOD:PUBLISH
X-WR-CALNAME:Comité Interdépartemental Provence Aïkido FFAB
X-ORIGINAL-URL:https://www.aikidoprovence.com
X-WR-CALDESC:Évènements pour Comité Interdépartemental Provence Aïkido FFAB
BEGIN:VEVENT
DTSTART;TZID=Europe/Paris:20251129T090000
DTEND;TZID=Europe/Paris:20251130T160000
DTSTAMP:20260421T101539
CREATED:20250923T131605Z
LAST-MODIFIED:20250923T133700Z
UID:1943-1764406800-1764518400@www.aikidoprovence.com
SUMMARY:Stage Ecole Régionale Aïkido Provence - Dojo Shumeikan à Bras
DESCRIPTION:Stage « Ecole Régionale »\n\n\nSamedi 29 et Dimanche 20 novembre 2025″\n\n\nAnimé par : \n\nClaude PELLERIN\, Shihan\, CEN FFAB\, 8e dan\nFabrice CAST\, CEN FFAB\, 6e dan\nAlain BIEHLY\, ACT Provence\, 6e dan\n\nLieu : Dojo SUMEIKAN\, 224 route de Brue-Auriac\, les allées\, 83149 BRAS \nHoraires des cours \n\nDu samedi 9h au dimanche 16h\n\n \nAffiche en PDF : ecole regionale novembre 2025 \nFiche inscription en PDF : Fiche inscription novembre 2025 \n
URL:https://www.aikidoprovence.com/stage/stage-ecole-regionale-aikido-provence-dojo-shumeikan-a-bras
CATEGORIES:Adultes
END:VEVENT
END:VCALENDAR