BEGIN:VCALENDAR
VERSION:2.0
PRODID:-//Comité Interdépartemental Provence Aïkido FFAB - ECPv4.6.24.1//NONSGML v1.0//EN
CALSCALE:GREGORIAN
METHOD:PUBLISH
X-WR-CALNAME:Comité Interdépartemental Provence Aïkido FFAB
X-ORIGINAL-URL:https://www.aikidoprovence.com
X-WR-CALDESC:Évènements pour Comité Interdépartemental Provence Aïkido FFAB
BEGIN:VEVENT
DTSTART;TZID=Europe/Paris:20240120T080000
DTEND;TZID=Europe/Paris:20240120T180000
DTSTAMP:20260421T183739
CREATED:20231222T073325Z
LAST-MODIFIED:20240108T120637Z
UID:1640-1705737600-1705773600@www.aikidoprovence.com
SUMMARY:Stage ouvert à tous "Hommage à Jean Paul AVY"
DESCRIPTION:Stage ouvert à tous « Hommage à Jean Paul AVY »\n\n\nSamedi 20 janvier 2024\n\n\nManosque (04100)\, dojo des ISCLES \nAnimé par : \n\nGilbert MILLIAT Shihan\, 8e dan\, CEN FFAB\n\nHoraires des cours \n\n9h – 12h\n15h -18h\n\n \nAffiche du stage en PDF \n  \n
URL:https://www.aikidoprovence.com/stage/stage-ouvert-a-tous-hommage-a-jean-paul-avy
CATEGORIES:Adultes
END:VEVENT
END:VCALENDAR