BEGIN:VCALENDAR
VERSION:2.0
PRODID:-//Comité Interdépartemental Provence Aïkido FFAB - ECPv4.6.24.1//NONSGML v1.0//EN
CALSCALE:GREGORIAN
METHOD:PUBLISH
X-WR-CALNAME:Comité Interdépartemental Provence Aïkido FFAB
X-ORIGINAL-URL:https://www.aikidoprovence.com
X-WR-CALDESC:Évènements pour Comité Interdépartemental Provence Aïkido FFAB
BEGIN:VEVENT
DTSTART;TZID=Europe/Paris:20231203T090000
DTEND;TZID=Europe/Paris:20231203T180000
DTSTAMP:20260421T152104
CREATED:20231031T174135Z
LAST-MODIFIED:20231031T174135Z
UID:1629-1701594000-1701626400@www.aikidoprovence.com
SUMMARY:Stage Préparation Grades 1er et 2e dan
DESCRIPTION:Dimanche 3 décembre 2023 \n9h-12h et 15h-18h \nAnimé par : \n\nPhilippe AUDIBERT\, ACT\, 5e dan\nJacky POTDEVIN \, 5e dan\n\nDojo municipal d’Arts Martiaux\, 13790 ROUSSET \n \nprepa grades rousset en PDF \n  \n
URL:https://www.aikidoprovence.com/stage/stage-preparation-grades-1er-et-2e-dan-3
CATEGORIES:Adultes
END:VEVENT
END:VCALENDAR