BEGIN:VCALENDAR
VERSION:2.0
PRODID:-//Comité Interdépartemental Provence Aïkido FFAB - ECPv4.6.24.1//NONSGML v1.0//EN
CALSCALE:GREGORIAN
METHOD:PUBLISH
X-WR-CALNAME:Comité Interdépartemental Provence Aïkido FFAB
X-ORIGINAL-URL:https://www.aikidoprovence.com
X-WR-CALDESC:Évènements pour Comité Interdépartemental Provence Aïkido FFAB
BEGIN:VEVENT
DTSTART;TZID=Europe/Paris:20240210T090000
DTEND;TZID=Europe/Paris:20240210T180000
DTSTAMP:20260421T221435
CREATED:20240131T081645Z
LAST-MODIFIED:20240131T081645Z
UID:1665-1707555600-1707588000@www.aikidoprovence.com
SUMMARY:Stage préparation grades 1er et 2e dan
DESCRIPTION:Dimanche 11 février 2024 \n9h-12h et 15h-18h \nAnimé par : \n\nPatrick JUBAULT\, 6e dan\nAntoine POYDATZ\, 5e dan\n\nDojo de Champfleury\, 15 rue Eisenhower\, 84000 AVIGNON \n \nprepa grades avignon (affiche en PDF) \n
URL:https://www.aikidoprovence.com/stage/stage-preparation-grades-1er-et-2e-dan-4
CATEGORIES:Adultes
END:VEVENT
END:VCALENDAR